BEGIN:VCALENDAR
VERSION:2.0
PRODID:-//Verband Mediation - ECPv6.15.20//NONSGML v1.0//EN
CALSCALE:GREGORIAN
METHOD:PUBLISH
X-ORIGINAL-URL:https://verband-mediation.ch
X-WR-CALDESC:Veranstaltungen für Verband Mediation
REFRESH-INTERVAL;VALUE=DURATION:PT1H
X-Robots-Tag:noindex
X-PUBLISHED-TTL:PT1H
BEGIN:VTIMEZONE
TZID:Europe/Zurich
BEGIN:DAYLIGHT
TZOFFSETFROM:+0100
TZOFFSETTO:+0200
TZNAME:CEST
DTSTART:20240331T010000
END:DAYLIGHT
BEGIN:STANDARD
TZOFFSETFROM:+0200
TZOFFSETTO:+0100
TZNAME:CET
DTSTART:20241027T010000
END:STANDARD
BEGIN:DAYLIGHT
TZOFFSETFROM:+0100
TZOFFSETTO:+0200
TZNAME:CEST
DTSTART:20250330T010000
END:DAYLIGHT
BEGIN:STANDARD
TZOFFSETFROM:+0200
TZOFFSETTO:+0100
TZNAME:CET
DTSTART:20251026T010000
END:STANDARD
BEGIN:DAYLIGHT
TZOFFSETFROM:+0100
TZOFFSETTO:+0200
TZNAME:CEST
DTSTART:20260329T010000
END:DAYLIGHT
BEGIN:STANDARD
TZOFFSETFROM:+0200
TZOFFSETTO:+0100
TZNAME:CET
DTSTART:20261025T010000
END:STANDARD
END:VTIMEZONE
BEGIN:VEVENT
DTSTART;TZID=Europe/Zurich:20250905T090000
DTEND;TZID=Europe/Zurich:20250906T180000
DTSTAMP:20260425T133644
CREATED:20250217T113814Z
LAST-MODIFIED:20250509T095532Z
UID:10000021-1757062800-1757181600@verband-mediation.ch
SUMMARY:SKWM KONGRESS 2025 – Zukunft Konfliktlösung
DESCRIPTION:Der Verband Mediation und die SKWM Fachgruppe ZNO (Zentral-\, Nordwest- und Ostschweiz) laden ein zur gemeinsamen Veranstaltung: \nSKWM KONGRESS 2025\nZukunft Konfliktlösung\n\nDatum: Freitag\, 5. und Samstag\, 6. September 2025 \nIm globalen Wettbewerb der Nationen werden vermeintlich sichere Werte in Frage gestellt. Wir erleben zunehmende Spannungen und Widersprüche. Setzt sich nun auch in der Wirtschaft eine neue Verhandlungskultur durch? Wie gelingt es\, in Wettbewerbssituationen und Konflikten kooperativ zu bleiben? \nNamhafte Referenten versuchen in Impulsvorträgen und Workshops Antworten auf diese Fragen zu finden und den Teilnehmern gleichzeitig wichtige Techniken dafür nahezubringen. Ein Muss für alle\, die sich beruflich mit Konfliktmanagement und Mediation beschäftigen. \nDer SKWM Kongress 2025 wird von Botschafter Tim Enderlin \, Leiter der Abteilung Frieden und Menschenrechte im Staatssekretariat des Eidgenössischen Departements für auswärtige Angelegenheiten (EDA)\, eröffnet. Weitere Referenten sind: \n\nPascale Baeriswyl\nGeorg Kohlrieser\nKen Cloke\nSascha Weigel\nStephanie Schoss\n\nDie Workshop-Stunden werden geleitet von Andrea Hartmann-Piraudeau\, Irma Endres\,  Ljubjana Wüstehube\, Evelyne Peter\, Marco Ronzani\, Julia Jung\, Urs Weber-Stecher\, Patrick Becker und Stephan Auerbach. Zudem sind Sie eingeladen\, an einer Mediationssimulation teilzunehmen\, bei der Sie gemeinsam mit Gabriela Renggli\, Markus Berg und Susann Bongers selbst in den Verlauf einer Mediation eingreifen und Einfluss nehmen können . \nAm Freitagabend haben die Teilnehmenden die Möglichkeit\, ihren Dialog beim Konferenzdinner zu vertiefen. Die Plätze sind begrenzt\, buchen Sie daher bitte frühzeitig\, um Enttäuschungen zu vermeiden. \nDie Veranstaltung beginnt am Freitag\, 5. September 2025\, im Radisson Hotel in Luzern. Tag 2 findet an der Universität Luzern statt. \nAls Mitglied des Verbands Mediation können Sie von einer Ermässigung von 10 %profitieren. Kontaktieren Sie bitte Helena Friedmann bezüglich des PromoCodes. \nDer Frühbucherrabatt ist bis zum 25. Mai 2025 verfügbar. \nDetails und Anmeldelink auf der Kongresswebseite des SKWM
URL:https://verband-mediation.ch/event/skwm-kongress-2025-zukunft-der-konfliktloesung/
LOCATION:Radisson Blu Hotel\, Lakefront Center - Inseliquai 12\, Luzern\, 6005\, Switzerland
CATEGORIES:SKWM - Regionalgruppe ZNO
ATTACH;FMTTYPE=image/png:https://verband-mediation.ch/wp-content/uploads/2023/11/SKWM.png
ORGANIZER;CN="SKWM %E2%80%93 Schweizer Kammer f%C3%BCr Wirtschaftsmediation | Regionalgruppe ZNO":MAILTO:admin@skwm.ch
END:VEVENT
END:VCALENDAR