BEGIN:VCALENDAR
VERSION:2.0
PRODID:-//Verband Mediation - ECPv6.15.20//NONSGML v1.0//EN
CALSCALE:GREGORIAN
METHOD:PUBLISH
X-ORIGINAL-URL:https://verband-mediation.ch
X-WR-CALDESC:Veranstaltungen für Verband Mediation
REFRESH-INTERVAL;VALUE=DURATION:PT1H
X-Robots-Tag:noindex
X-PUBLISHED-TTL:PT1H
BEGIN:VTIMEZONE
TZID:Europe/Zurich
BEGIN:DAYLIGHT
TZOFFSETFROM:+0100
TZOFFSETTO:+0200
TZNAME:CEST
DTSTART:20240331T010000
END:DAYLIGHT
BEGIN:STANDARD
TZOFFSETFROM:+0200
TZOFFSETTO:+0100
TZNAME:CET
DTSTART:20241027T010000
END:STANDARD
BEGIN:DAYLIGHT
TZOFFSETFROM:+0100
TZOFFSETTO:+0200
TZNAME:CEST
DTSTART:20250330T010000
END:DAYLIGHT
BEGIN:STANDARD
TZOFFSETFROM:+0200
TZOFFSETTO:+0100
TZNAME:CET
DTSTART:20251026T010000
END:STANDARD
BEGIN:DAYLIGHT
TZOFFSETFROM:+0100
TZOFFSETTO:+0200
TZNAME:CEST
DTSTART:20260329T010000
END:DAYLIGHT
BEGIN:STANDARD
TZOFFSETFROM:+0200
TZOFFSETTO:+0100
TZNAME:CET
DTSTART:20261025T010000
END:STANDARD
END:VTIMEZONE
BEGIN:VEVENT
DTSTART;TZID=Europe/Zurich:20250317T180000
DTEND;TZID=Europe/Zurich:20250317T200000
DTSTAMP:20260425T121658
CREATED:20241004T100700Z
LAST-MODIFIED:20250217T203139Z
UID:10000017-1742234400-1742241600@verband-mediation.ch
SUMMARY:Mitgliederversammlung 2025
DESCRIPTION:Gerne laden wir Sie zur Mitgliederversammlung des Verbands Mediation ein.\nMontag\, 17. März 2025\, 18.00 bis 20.00 Uhr \nProgramm: \n\n18.00-18.30 Uhr: Mitgliederversammlung\n18.30-19.00 Uhr: «Q&A mit dem Dachverband» mit Franziska Müller Tiberini\, Präsidentin Dachverband FSM\n19.00-20.00 Uhr: Apéro Riche\n\n\nGerne bitten wir Sie um Ihre Anmeldung mittels nachfolgenden Formulars:\nBitte aktiviere JavaScript in deinem Browser\, um dieses Formular fertigzustellen.Bitte aktiviere JavaScript in deinem Browser\, um dieses Formular fertigzustellen.Teilnahme | Absage *Ich  nehme am 17.3.2025  teilIch bin verhindert und nehme an der Mitgliederversammlung nicht teilSie erhalten für Ihre Teilnahme eine\n Weiterbildungsbestätigung über 2 Stunden. \nVorname *Nachname *E-Mail *Telefon- oder Mobil-Nummer *Strasse | Nr.PLZ | OrtIhre Nachricht an unsAbsenden
URL:https://verband-mediation.ch/event/mitgliederversammlung-2025/
LOCATION:Verband Mediation\, Auberg 9\, Basel\, 4051\, Schweiz
CATEGORIES:Verband Mediation Veranstaltung
ATTACH;FMTTYPE=image/png:https://verband-mediation.ch/wp-content/uploads/2023/09/cropped-Logo-Verband-Mediation.png
ORGANIZER;CN="Verband Mediation":MAILTO:info@verband-mediation.ch
END:VEVENT
BEGIN:VEVENT
DTSTART;TZID=Europe/Zurich:20250319T180000
DTEND;TZID=Europe/Zurich:20250319T200000
DTSTAMP:20260425T121658
CREATED:20250217T110311Z
LAST-MODIFIED:20250217T114058Z
UID:10000019-1742407200-1742414400@verband-mediation.ch
SUMMARY:Interkulturelle Mediation in einer globalisierten Welt
DESCRIPTION:Der Verband Mediation und die SKWM Fachgruppe ZNO (Zentral-\, Nordwest- und Ostschweiz) laden ein zur gemeinsamen Veranstaltung: \nInterkulturelle Mediation in einer globalisierten Welt\nReferenten: Dr. Beatrice Herrmann und David Bärtsch\n  \nDatum: Mittwoch\, 19. März 2025\, 18.00 bis 20.00 Uhr\nOrt: Fred Hotel Zürich\, Hauptbahnhof\, Limmatstrasse 5\, 8005 Zürich \n\nSie sind Führungskraft oder Mediator*in und möchten Ihre Fähigkeiten im interkulturellen Kontext erweitern? Dann ist dieser Event genau das Richtige für Sie! \nWas erwartet Sie?\nIn nur zwei Stunden bieten wir Ihnen eine spannende und interaktive Sitzung\, die folgende Themen behandelt: \n\nBedeutung interkultureller Mediation: Verstehen Sie\, warum interkulturelle Mediation in der globalisierten Welt unerlässlich ist.\nRelevante Situationen: Identifizieren Sie konkrete Herausforderungen\, die in der heutigen Geschäftswelt auftreten können.\nPraktische Strategien: Erlernen Sie effektive Methoden zur Anwendung von Mediationstechniken in interkulturellen Konflikten.\n\nWarum sollten Sie teilnehmen?\n\nInteraktivität: Tauschen Sie Erfahrungen mit anderen Führungskräften und Mediator*innen aus.\nPraxisnahe Einblicke: Hören Sie Geschichten und Fallstudien aus der Praxis\, die Ihnen neue Perspektiven eröffnen.\nNetzwerk: Knüpfen Sie Kontakte zu Gleichgesinnten und erweitern Sie Ihr professionelles Netzwerk.\n\nLassen Sie sich diese Gelegenheit nicht entgehen\, um Ihre Kompetenzen zu stärken und Ihre interkulturellen Fähigkeiten in einer global vernetzten Welt auszubauen! \nAnmeldung direkt auf der Seite des SKWM: www.eventbrite.ch
URL:https://verband-mediation.ch/event/mobbing-in-unternehmen-richtet-schaden-an-2/
LOCATION:Fred Hotel\, Limmatstrasse 5\, Zürich\, Zürich\, 8005\, Switzerland
CATEGORIES:SKWM - Regionalgruppe ZNO
ATTACH;FMTTYPE=image/png:https://verband-mediation.ch/wp-content/uploads/2023/11/SKWM.png
ORGANIZER;CN="SKWM %E2%80%93 Schweizer Kammer f%C3%BCr Wirtschaftsmediation | Regionalgruppe ZNO":MAILTO:admin@skwm.ch
END:VEVENT
END:VCALENDAR