BEGIN:VCALENDAR
VERSION:2.0
PRODID:-//Verband Mediation - ECPv6.15.20//NONSGML v1.0//EN
CALSCALE:GREGORIAN
METHOD:PUBLISH
X-ORIGINAL-URL:https://verband-mediation.ch
X-WR-CALDESC:Veranstaltungen für Verband Mediation
REFRESH-INTERVAL;VALUE=DURATION:PT1H
X-Robots-Tag:noindex
X-PUBLISHED-TTL:PT1H
BEGIN:VTIMEZONE
TZID:Europe/Zurich
BEGIN:DAYLIGHT
TZOFFSETFROM:+0100
TZOFFSETTO:+0200
TZNAME:CEST
DTSTART:20240331T010000
END:DAYLIGHT
BEGIN:STANDARD
TZOFFSETFROM:+0200
TZOFFSETTO:+0100
TZNAME:CET
DTSTART:20241027T010000
END:STANDARD
BEGIN:DAYLIGHT
TZOFFSETFROM:+0100
TZOFFSETTO:+0200
TZNAME:CEST
DTSTART:20250330T010000
END:DAYLIGHT
BEGIN:STANDARD
TZOFFSETFROM:+0200
TZOFFSETTO:+0100
TZNAME:CET
DTSTART:20251026T010000
END:STANDARD
BEGIN:DAYLIGHT
TZOFFSETFROM:+0100
TZOFFSETTO:+0200
TZNAME:CEST
DTSTART:20260329T010000
END:DAYLIGHT
BEGIN:STANDARD
TZOFFSETFROM:+0200
TZOFFSETTO:+0100
TZNAME:CET
DTSTART:20261025T010000
END:STANDARD
END:VTIMEZONE
BEGIN:VEVENT
DTSTART;TZID=Europe/Zurich:20251022T180000
DTEND;TZID=Europe/Zurich:20251022T200000
DTSTAMP:20260425T164128
CREATED:20250217T114624Z
LAST-MODIFIED:20250428T094247Z
UID:10000022-1761156000-1761163200@verband-mediation.ch
SUMMARY:SKWM-Veranstaltung: Konfliktmanagement als Führungsaufgabe
DESCRIPTION:Der Verband Mediation und die SKWM Fachgruppe ZNO (Zentral-\, Nordwest- und Ostschweiz) laden ein zur gemeinsamen Veranstaltung: \nKonfliktmanagement als Führungsaufgabe\nCheckliste für Führungskräfte und Mediator/innen\nReferent: David Bärtsch\nDatum: Mittwoch\, 22. Oktober 2025\, 18.00 bis 20.00 Uhr \n\nSind Sie Führungskraft oder Mediator*in? In diesemkompakten Event erfahren Sie\, warum Konfliktmanagement eine essentielle Führungsaufgabe ist. \nWas erwartet Sie?\n\nKernaufgabe Konfliktmanagement: Erkennen Sie die Bedeutung von Konfliktbewältigung für Ihren Führungserfolg.\nEinfache Checkliste: Erhalten Sie praktische Schritte\, die Sie in Konfliktsituationen sofort anwenden können.\n\nWarum teilnehmen?\n\nStrategien für den Alltag: Stärken Sie Ihre Konfliktkompetenzen für einen harmonischen Arbeitsumfeld.\nInteraktive Diskussion: Tauschen Sie sich mit anderen Führungskräften und Mediator*innen aus.\n\nNutzen Sie diese Gelegenheit\, um Ihre Fähigkeiten zu erweitern! Weitere Details und Anmeldelink auf der Webseite des SKWM.
URL:https://verband-mediation.ch/event/konfliktmanagement-als-fuehrungsaufgabe/
LOCATION:Fred Hotel\, Limmatstrasse 5\, Zürich\, Zürich\, 8005\, Switzerland
CATEGORIES:SKWM - Regionalgruppe ZNO
ATTACH;FMTTYPE=image/png:https://verband-mediation.ch/wp-content/uploads/2023/11/SKWM.png
ORGANIZER;CN="SKWM %E2%80%93 Schweizer Kammer f%C3%BCr Wirtschaftsmediation | Regionalgruppe ZNO":MAILTO:admin@skwm.ch
END:VEVENT
END:VCALENDAR