BEGIN:VCALENDAR
VERSION:2.0
PRODID:-//Verband Mediation - ECPv6.15.20//NONSGML v1.0//EN
CALSCALE:GREGORIAN
METHOD:PUBLISH
X-WR-CALNAME:Verband Mediation
X-ORIGINAL-URL:https://verband-mediation.ch
X-WR-CALDESC:Veranstaltungen für Verband Mediation
REFRESH-INTERVAL;VALUE=DURATION:PT1H
X-Robots-Tag:noindex
X-PUBLISHED-TTL:PT1H
BEGIN:VTIMEZONE
TZID:Europe/Zurich
BEGIN:DAYLIGHT
TZOFFSETFROM:+0100
TZOFFSETTO:+0200
TZNAME:CEST
DTSTART:20240331T010000
END:DAYLIGHT
BEGIN:STANDARD
TZOFFSETFROM:+0200
TZOFFSETTO:+0100
TZNAME:CET
DTSTART:20241027T010000
END:STANDARD
BEGIN:DAYLIGHT
TZOFFSETFROM:+0100
TZOFFSETTO:+0200
TZNAME:CEST
DTSTART:20250330T010000
END:DAYLIGHT
BEGIN:STANDARD
TZOFFSETFROM:+0200
TZOFFSETTO:+0100
TZNAME:CET
DTSTART:20251026T010000
END:STANDARD
BEGIN:DAYLIGHT
TZOFFSETFROM:+0100
TZOFFSETTO:+0200
TZNAME:CEST
DTSTART:20260329T010000
END:DAYLIGHT
BEGIN:STANDARD
TZOFFSETFROM:+0200
TZOFFSETTO:+0100
TZNAME:CET
DTSTART:20261025T010000
END:STANDARD
END:VTIMEZONE
BEGIN:VEVENT
DTSTART;TZID=Europe/Zurich:20250618T140000
DTEND;TZID=Europe/Zurich:20250618T150000
DTSTAMP:20260425T150235
CREATED:20241004T112150Z
LAST-MODIFIED:20250521T113029Z
UID:10000018-1750255200-1750258800@verband-mediation.ch
SUMMARY:Tag der Mediation 2025 - «Mediation in Basel»\, Chancen und Möglichkeiten in Politik und Verwaltung
DESCRIPTION:Einladung zum internationalen Tag der Mediation\nMittwoch\, 18. Juni 2025\, von 14.00 bis 15.00 Uhr\nMarkthalle Basel\, «Raum Mono»\, Erdgeschoss (2 Minuten vom Bahnhof SBB)\, Eintritt frei \n  \nStellen Sie Ihre Fragen zum Thema\n«Mediation in Basel»\nChancen und Möglichkeiten in Politik und Verwaltung\n  \n\nPodium\nDiese Veranstaltung wird unterstützt durch:\nFEDERATION SUISSE MEDIATION – FSM \n  \n\nHier den Flyer (PDF) herunterladen ➜\nTeilnehmende Mediator:innen erhalten eine Weiterbildungsbestätigung über eine Stunde.\nBei Fragen steht Ihnen Helena Friedmann per E-Mail ➜ gerne zur Verfügung.\n\n  \n\nIhre Anmeldung\nBitte aktiviere JavaScript in deinem Browser\, um dieses Formular fertigzustellen.Bitte aktiviere JavaScript in deinem Browser\, um dieses Formular fertigzustellen.Ich bin auf diese Veranstaltung aufmerksam geworden: *--- Auswahl treffen ---direkt auf dieser Webseite (www.Verband-Mediation.ch)Newsletter des Verbands MediationLinkedInEmpfehlungFlyer | PlakatwerbunganderesTeilnahme | Absage *Ich  nehme am 18.6.2025 teilIch bin verhindert und komme nicht zur PodiumsdiskussionSie erhalten für Ihre Teilnahme eine\n Weiterbildungsbestätigung über 1 Stunde. \nIch kann nicht teilnehmen\, habe aber Fragen an das Podium\, über deren Beantwortung ich mich freuen würde:Vorname *Nachname *E-Mail *Telefon- oder Mobil-Nummer *Strasse | Nr.PLZ | OrtIhre Nachricht an unsAbsenden  \n\nEntstehungsgeschichte des Tags der Mediation\nIm Juni 2013 fand in Wien ein Treffen von acht grossen deutschsprachigen Mediationsverbänden aus Deutschland\, Österreich und der Schweiz statt. \nDie Mediationsverbände haben die «Wiener Erklärung» verabschiedet. Es wurde beschlossen\, den 18. Juni zum «Tag der Mediation» zu erklären. \nSeitdem führen Mediationsvereine und Mediationsverbände in Deutschland\, Österreich und der Schweiz am 18. Juni Veranstaltungen durch. Ziel der Veranstaltungen ist es\, die Öffentlichkeit über Mediation in Theorie und Praxis zu informieren. So soll die Mediation als Methode zur Konfliktregelung und Verbesserung der Streitkultur bekannter gemacht werden. \nWeitere Informationen zum internationalen Tag der Mediation finden Sie auch unter tag-der-mediation.international. ➜
URL:https://verband-mediation.ch/event/tag-der-mediation-2025-verband-mediation/
LOCATION:Markthalle Basel\, Steinentorberg 20\, Basel\, BS\, 4051\, Switzerland
CATEGORIES:Verband Mediation Veranstaltung
ATTACH;FMTTYPE=image/png:https://verband-mediation.ch/wp-content/uploads/2024/01/Tag-der-Mediation.png
ORGANIZER;CN="Verband Mediation":MAILTO:info@verband-mediation.ch
END:VEVENT
END:VCALENDAR