BEGIN:VCALENDAR
VERSION:2.0
PRODID:-//Verband Mediation - ECPv6.15.20//NONSGML v1.0//EN
CALSCALE:GREGORIAN
METHOD:PUBLISH
X-WR-CALNAME:Verband Mediation
X-ORIGINAL-URL:https://verband-mediation.ch
X-WR-CALDESC:Veranstaltungen für Verband Mediation
REFRESH-INTERVAL;VALUE=DURATION:PT1H
X-Robots-Tag:noindex
X-PUBLISHED-TTL:PT1H
BEGIN:VTIMEZONE
TZID:Europe/Zurich
BEGIN:DAYLIGHT
TZOFFSETFROM:+0100
TZOFFSETTO:+0200
TZNAME:CEST
DTSTART:20240331T010000
END:DAYLIGHT
BEGIN:STANDARD
TZOFFSETFROM:+0200
TZOFFSETTO:+0100
TZNAME:CET
DTSTART:20241027T010000
END:STANDARD
BEGIN:DAYLIGHT
TZOFFSETFROM:+0100
TZOFFSETTO:+0200
TZNAME:CEST
DTSTART:20250330T010000
END:DAYLIGHT
BEGIN:STANDARD
TZOFFSETFROM:+0200
TZOFFSETTO:+0100
TZNAME:CET
DTSTART:20251026T010000
END:STANDARD
BEGIN:DAYLIGHT
TZOFFSETFROM:+0100
TZOFFSETTO:+0200
TZNAME:CEST
DTSTART:20260329T010000
END:DAYLIGHT
BEGIN:STANDARD
TZOFFSETFROM:+0200
TZOFFSETTO:+0100
TZNAME:CET
DTSTART:20261025T010000
END:STANDARD
END:VTIMEZONE
BEGIN:VEVENT
DTSTART;TZID=Europe/Zurich:20250115T180000
DTEND;TZID=Europe/Zurich:20250115T200000
DTSTAMP:20260425T010728
CREATED:20230922T171325Z
LAST-MODIFIED:20250106T140153Z
UID:10000004-1736964000-1736971200@verband-mediation.ch
SUMMARY:Neujahrsapéro und Netzwerkanlass 2025 des Verbands Mediation
DESCRIPTION:Gerne laden wir Sie bereits zum Neujahrsapéro und Netzwerkanlass 2025 des Verbands Mediation ein.\nDas Thema des diesjährigen Netzwerkanlasses ist «Weiterbildungswünsche»\nMittwoch\, 15. Januar 2025\, von 18.00 bis 20.00 Uhr – Bitte um Zu- oder Absage bis spätestens Sonntag\, 12. Januar 2025. \nWir freuen uns sehr darauf\, mit Ihnen / Euch auf ein rundum gelingendes 2025 anstossen zu dürfen! \nBei Fragen hilft Ihnen zwischenzeitlich Helena Friedmann gerne weiter (E-Mail ➜). \nP.S. Für Ihre Teilnahme erhalten Sie vor Ort eine Weiterbildungsbestätigung über 2 Stunden. \n  \n\nAnmeldung\nBitte aktiviere JavaScript in deinem Browser\, um dieses Formular fertigzustellen.Bitte aktiviere JavaScript in deinem Browser\, um dieses Formular fertigzustellen.Für Gäste erheben wir einen Unkostenbeitrag von CHF 30.–\, zahlbar vor Ort. \nTeilnahme | Absage *Ich  nehme am 15. Januar 2025  teilIch bin verhindert und nehme nicht teilSie erhalten für Ihre Teilnahme vor Ort eine\n Weiterbildungsbestätigung über 2 Stunden. \nVorname *Nachname *E-Mail *Telefon- oder Mobil-Nummer *Strasse | Nr.PLZ | OrtIhre Nachricht an unsAbsenden
URL:https://verband-mediation.ch/event/neujahrsapero-2025-verband-mediation/
LOCATION:Verband Mediation\, Auberg 9\, Basel\, 4051\, Schweiz
CATEGORIES:Verband Mediation Veranstaltung
ORGANIZER;CN="Verband Mediation":MAILTO:info@verband-mediation.ch
END:VEVENT
END:VCALENDAR